BEGIN:VCALENDAR
VERSION:2.0
PRODID:icalendar-ruby
CALSCALE:GREGORIAN
METHOD:PUBLISH
BEGIN:VEVENT
DTSTAMP:20260423T125253Z
UID:149-360698@livingword.tithelysetup8.com
DTSTART:20260519T000000Z
DTEND:20260519T020000Z
CLASS:PUBLIC
CREATED:20260422T124308
DESCRIPTION:Book Club\, May 18\nJoin us at 7 pm on Monday\, May 18th at 7 
 pm for socializing and snacks\; drinks will be provided\, please bring som
 e snacks to share.  Virginia and Carols will be hosting in Austin.  The 
 discussion begins at 8 pm on  Zoom. Remember even if you haven’t read
  the book or finished it\, the discussions are always relevant and good. 
 We will be discussing The Prayer Box by Lisa Wingate (284 pages\, August
  2013) When Iola Anne Poole\, an old-timer on Hatteras Island\, passes awa
 y in her bed at ninety-one\, the struggling young mother in her rental co
 ttage\, Tandi Jo Reese\, finds herself charged with the task of cleaning o
 ut Iola's rambling Victorian house. Running from a messy\, dangerous pas
 t\, Tandi never expects to find more than a temporary hiding place within 
 Iola's walls\, but everything changes with the discovery of eighty-one ca
 refully decorated prayer boxes\, one for each year\, spanning from Iola's
  youth to her last days. Please contact us for detailed location info: 73
 7-999-0692 / lwlcbuda@gmail.com\nJoin us on zoom at 7:30 if you can't c
 ome in person. \nCOMPUTER: https://us02web.zoom.us/j/89454689631?pwd=blE
 3Q1V6K2JwZUM1bnhLTWIzSG02QT09\n\n\n\n\n\n\n\nPHONE: 346 248 7799\nMeeting 
 ID: 894 5468 9631\nPasscode: 613878\n\n\n\n\n\n\n
LAST-MODIFIED:20260422T124308
LOCATION:Online and Onsite
SUMMARY:Book Club
URL;VALUE=URI:https://livingwordbuda.org/events/book-club--149/2026-05-18
ATTACH;FILENAME=Website-1.png;FMTTYPE=image/png:https://dq5pwpg1q8ru0.cloud
 front.net/2026/04/22/17/43/08/6597d617-a07e-4d91-829c-e21ca22c9dca/Website
 -1.png
END:VEVENT
END:VCALENDAR
